BEGIN:VCALENDAR
VERSION:2.0
PRODID:-//Tukios.com/
BEGIN:VEVENT
UID:aa833439-041f-40ff-bdf6-39097a002e5e@www.csscbrown.com
DTSTAMP:20260419T223633Z
DTSTART:20260424T220000Z
DTEND:20260425T000000Z
SUMMARY:Celebration of Life
DESCRIPTION:
URL:https://www.csscbrown.com/obituaries/jeanne-broome
LOCATION:First Baptist Church Woodstock 11905 GA-92  Woodstock GA 30188
GEO:34.0920305;-84.4880347
END:VEVENT
END:VCALENDAR