BEGIN:VCALENDAR
VERSION:2.0
PRODID:-//Tukios.com/
BEGIN:VEVENT
UID:48228bf4-d69b-4e91-b00c-5755ee28f869@www.csscbrown.com
DTSTAMP:20260422T211244Z
DTSTART:20260504T180000Z
DTEND:20260504T183000Z
SUMMARY:Visitation
DESCRIPTION:
URL:https://www.csscbrown.com/obituaries/kathleen-taylor
LOCATION: 101 E North 2nd St  Seneca SC 29678
GEO:34.6872734;-82.9547629
END:VEVENT
END:VCALENDAR