BEGIN:VCALENDAR
VERSION:2.0
PRODID:-//Tukios.com/
BEGIN:VEVENT
UID:8ded92f6-47f2-4a71-8b71-a9c0c68288de@www.csscbrown.com
DTSTAMP:20260422T211634Z
DTSTART:20260504T183000Z
DTEND:20260504T193000Z
SUMMARY:Funeral Service
DESCRIPTION:
URL:https://www.csscbrown.com/obituaries/kathleen-taylor
LOCATION: 101 E North 2nd St  Seneca SC 29678
GEO:34.6872734;-82.9547629
END:VEVENT
END:VCALENDAR